BEGIN:VCALENDAR
VERSION:2.0
PRODID:-//ASEN - ECPv6.11.2.1//NONSGML v1.0//EN
CALSCALE:GREGORIAN
METHOD:PUBLISH
X-WR-CALNAME:ASEN
X-ORIGINAL-URL:https://asen.ac.uk
X-WR-CALDESC:Events for ASEN
REFRESH-INTERVAL;VALUE=DURATION:PT1H
X-Robots-Tag:noindex
X-PUBLISHED-TTL:PT1H
BEGIN:VTIMEZONE
TZID:Europe/Paris
BEGIN:DAYLIGHT
TZOFFSETFROM:+0100
TZOFFSETTO:+0200
TZNAME:CEST
DTSTART:20210328T010000
END:DAYLIGHT
BEGIN:STANDARD
TZOFFSETFROM:+0200
TZOFFSETTO:+0100
TZNAME:CET
DTSTART:20211031T010000
END:STANDARD
END:VTIMEZONE
BEGIN:VEVENT
DTSTART;TZID=Europe/Paris:20211028T170000
DTEND;TZID=Europe/Paris:20211028T183000
DTSTAMP:20260420T083957
CREATED:20210930T230826Z
LAST-MODIFIED:20211012T112911Z
UID:3900-1635440400-1635445800@asen.ac.uk
SUMMARY:The evolution of nationalisms
DESCRIPTION:Will Kerr’s new book\, Darwinian Social Evolution and Social Change: The Evolution of Nationalisms introduces the value of a Darwinian social evolutionary approach to understanding social change. We focus on how Will applies that approach to the study of nationalism. \nDarwinian Social Evolution and Social Change: The Evolution of Nationalisms is published by Palgrave Macmillan https://www.palgrave.com/gp/book/9783030779986. A discount code will be given out at the event. \nWith Will Kerr (University of Derby)\, Atsuko Ichijo (Kingston University)\, and Siniša Malešević (UCD) \nJoin us on Facebook Live and YouTube Live. Members will receive a link to join in on Zoom.
URL:https://asen.ac.uk/event/the-evolution-of-nationalisms/
LOCATION:Online
END:VEVENT
END:VCALENDAR